BEGIN:VCALENDAR
VERSION:2.0
PRODID:-//wp-events-plugin.com//7.2.3.1//EN
BEGIN:VEVENT
UID:17@fp21.fr
DTSTART;TZID=Europe/Paris:20250416T130000
DTEND;TZID=Europe/Paris:20250416T140000
DTSTAMP:20250408T135540Z
URL:https://fp21.fr/events/lancement-des-gt/
SUMMARY:Webinaire - Lancement des GT
DESCRIPTION:Retrouvez nous en ligne pour une présentation des groupes de t
 ravail à venir sur 2025 : ressources humaines\, transformation numérique
 \, fonction publique plurielle... autant de sujets que vous nous avez remo
 nté pour cette année et qui sont désormais à lancer !\n\n 	La particip
 ation à ces groupes de travail est réservée aux adhérents. A termes\, 
 ces groupes de travail peuvent donner lieu à des articles\, des livres bl
 ancs ou tout autre mode choisit par le groupe\, tout est possible\, à vou
 s de proposer vos idées !\n\nSeuls les adhérents recevront le lien de co
 nnexion (disponible également dans le groupe whatsapp).\n\nPour rappel\, 
 l'adhésion est gratuite pour les agents publics de moins de 35 ans. Vous 
 pouvez adhérer ici : https://fp21.fr/nous-rejoindre/\n\n&nbsp\;
ATTACH;FMTTYPE=image/jpeg:https://fp21.fr/wp-content/uploads/2025/04/lance
 ment-des-Groupes-de-travail.png
END:VEVENT
BEGIN:VTIMEZONE
TZID:Europe/Paris
X-LIC-LOCATION:Europe/Paris
BEGIN:DAYLIGHT
DTSTART:20250330T030000
TZOFFSETFROM:+0100
TZOFFSETTO:+0200
TZNAME:CEST
END:DAYLIGHT
END:VTIMEZONE
END:VCALENDAR