BEGIN:VCALENDAR
VERSION:2.0
PRODID:-//wp-events-plugin.com//7.2.3.1//EN
BEGIN:VEVENT
UID:1@fp21.fr
DTSTART;TZID=Europe/Paris;VALUE=DATE:20241003
DTEND;TZID=Europe/Paris;VALUE=DATE:20241004
DTSTAMP:20240909T143516Z
URL:https://fp21.fr/events/evenement-intervention-a-linsp/
SUMMARY:Intervention à l'INSP
DESCRIPTION:Le 3 octobre 2024\, l’équipe de FP21 interviendra à l’Ins
 titut National du Service Public (INSP)
ATTACH;FMTTYPE=image/jpeg:https://fp21.fr/wp-content/uploads/2024/09/Logo_
 INSP.svg_.png
END:VEVENT
BEGIN:VTIMEZONE
TZID:Europe/Paris
X-LIC-LOCATION:Europe/Paris
BEGIN:DAYLIGHT
DTSTART:20240331T030000
TZOFFSETFROM:+0100
TZOFFSETTO:+0200
TZNAME:CEST
END:DAYLIGHT
END:VTIMEZONE
END:VCALENDAR