BEGIN:VCALENDAR
VERSION:2.0
PRODID:-//wp-events-plugin.com//7.2.3.1//EN
BEGIN:VEVENT
UID:4@fp21.fr
DTSTART;TZID=Europe/Paris;VALUE=DATE:20241211
DTEND;TZID=Europe/Paris;VALUE=DATE:20241213
DTSTAMP:20240909T132946Z
URL:https://fp21.fr/events/entretiens-territoriaux-de-strasbourg/
SUMMARY:Entretiens Territoriaux de Strasbourg.
DESCRIPTION:Les 11 et 12 décembre 2024 - Entretiens Territoriaux de Strasb
 ourg\n\nLes Entretiens Territoriaux de Strasbourg des 11 et 12 décembre 2
 024 seront un temps fort pour échanger sur les pratiques et défis des co
 llectivités territoriales.
ATTACH;FMTTYPE=image/jpeg:https://fp21.fr/wp-content/uploads/2024/09/Logo_
 des_entretiens_territoriaux_de_Strasbourg-scaled.jpg
END:VEVENT
BEGIN:VTIMEZONE
TZID:Europe/Paris
X-LIC-LOCATION:Europe/Paris
BEGIN:STANDARD
DTSTART:20241027T020000
TZOFFSETFROM:+0200
TZOFFSETTO:+0100
TZNAME:CET
END:STANDARD
END:VTIMEZONE
END:VCALENDAR