BEGIN:VCALENDAR
VERSION:2.0
PRODID:-//wp-events-plugin.com//7.2.3.1//EN
BEGIN:VEVENT
UID:8@fp21.fr
DTSTART;TZID=Europe/Paris;VALUE=DATE:20241218
DTEND;TZID=Europe/Paris;VALUE=DATE:20241219
DTSTAMP:20241202T160325Z
URL:https://fp21.fr/events/assemblee-generale-2024/
SUMMARY:Assemblée générale 2024
DESCRIPTION:Nous donnons rendez-vous à nos adhérents (à jour de leur cot
 isation) pour élire la nouvelle équipe dirigeante et échanger autour de
 s prochaines orientations et événements.\n\nCette assemblée générale 
 se tiendra en ligne
ATTACH;FMTTYPE=image/jpeg:https://fp21.fr/wp-content/uploads/2024/12/Logo-
 Format-court.png
END:VEVENT
BEGIN:VTIMEZONE
TZID:Europe/Paris
X-LIC-LOCATION:Europe/Paris
BEGIN:STANDARD
DTSTART:20241027T020000
TZOFFSETFROM:+0200
TZOFFSETTO:+0100
TZNAME:CET
END:STANDARD
END:VTIMEZONE
END:VCALENDAR